BEGIN:VCALENDAR
VERSION:2.0
PRODID:-//eventon.com NONSGML v1.0//EN
CALSCALE:GREGORIAN
METHOD:PUBLISH
BEGIN:VEVENT
UID:69e8930ad0cb1
DTSTAMP:20260422T092114Z
DTSTART:20230425T160000Z
DTEND:20230425T170000Z
LOCATION:Wien Atelier Innere Mitte Marxergasse 17/4/1.25
SUMMARY:Yoga ab 45
DESCRIPTION:Yoga ab 45\nhttps://foreveryang.at/events/yoga-ab-45-copy/
URL:https://foreveryang.at/events/yoga-ab-45-copy/
END:VEVENT
END:VCALENDAR