BEGIN:VCALENDAR
VERSION:2.0
PRODID:-//eventon.com NONSGML v1.0//EN
CALSCALE:GREGORIAN
METHOD:PUBLISH
BEGIN:VEVENT
UID:69e4d837da09c
DTSTAMP:20260419T132719Z
DTSTART:20240103T073000Z
DTEND:20240103T083000Z
LOCATION:Körpernetzwerk Rechte Wienzeile 29/11\,  1040 Wien
SUMMARY:Yoga ab 45
DESCRIPTION:Yoga ab 45\nhttps://foreveryang.at/events/yoga-ab-45/
URL:https://foreveryang.at/events/yoga-ab-45/
END:VEVENT
END:VCALENDAR